BEGIN:VCALENDAR
VERSION:2.0
PRODID:icalendar-ruby
CALSCALE:GREGORIAN
METHOD:PUBLISH
BEGIN:VEVENT
DTSTAMP:20260422T104604Z
UID:34-469368@saintbartholomew.ca
DTSTART:20250925T230000Z
DTEND:20250926T000000Z
CLASS:PUBLIC
CREATED:20260212T122707
DESCRIPTION:POETRY STUDY:  THURSDAYS at 7 PM \nFor our Lent session we wil
 l use poems from  The Word in the Wilderness\,  A poem a Day for Lent an
 d Easter\, by Malcome Guite. We hope to start this session on Thursd
 ay 26 February. As usual we will plan to meet at 7:15 for tea and a 
 chat\, then a 7:30 start\,  then a peaceful Compline at approx. 8:4
 5 to end our evening together. \nWe welcome newcomers so don't hesitate t
 o contact Robin Dunbar or the Church Office for more information.
LAST-MODIFIED:20260212T122707
LOCATION:125 MacKay St
SUMMARY:Poetry Study
URL;VALUE=URI:https://www.saintbartholomew.ca/events/poetry-study/2025-09-2
 5
ATTACH;FILENAME=the-word-in-the-wilderness.jpg;FMTTYPE=image/jpeg:https://d
 q5pwpg1q8ru0.cloudfront.net/2026/01/29/18/06/44/dce53af7-95ca-462e-8734-cb
 38423ce92c/the-word-in-the-wilderness.jpg
ATTACH;FILENAME=Poetry-and-mug-image.jpg;FMTTYPE=image/jpeg:https://dq5pwpg
 1q8ru0.cloudfront.net/2026/01/29/18/11/38/3bfdf75c-f64f-4a66-b75d-7e0e2796
 15ed/Poetry-and-mug-image.jpg
END:VEVENT
END:VCALENDAR
